BEGIN:VCALENDAR
VERSION:2.0
PRODID:-//Easy Español - ECPv6.15.18//NONSGML v1.0//EN
CALSCALE:GREGORIAN
METHOD:PUBLISH
X-ORIGINAL-URL:https://easyespanol.org
X-WR-CALDESC:Events for Easy Español
REFRESH-INTERVAL;VALUE=DURATION:PT1H
X-Robots-Tag:noindex
X-PUBLISHED-TTL:PT1H
BEGIN:VTIMEZONE
TZID:America/New_York
BEGIN:DAYLIGHT
TZOFFSETFROM:-0500
TZOFFSETTO:-0400
TZNAME:EDT
DTSTART:20250309T070000
END:DAYLIGHT
BEGIN:STANDARD
TZOFFSETFROM:-0400
TZOFFSETTO:-0500
TZNAME:EST
DTSTART:20251102T060000
END:STANDARD
BEGIN:DAYLIGHT
TZOFFSETFROM:-0500
TZOFFSETTO:-0400
TZNAME:EDT
DTSTART:20260308T070000
END:DAYLIGHT
BEGIN:STANDARD
TZOFFSETFROM:-0400
TZOFFSETTO:-0500
TZNAME:EST
DTSTART:20261101T060000
END:STANDARD
BEGIN:DAYLIGHT
TZOFFSETFROM:-0500
TZOFFSETTO:-0400
TZNAME:EDT
DTSTART:20270314T070000
END:DAYLIGHT
BEGIN:STANDARD
TZOFFSETFROM:-0400
TZOFFSETTO:-0500
TZNAME:EST
DTSTART:20271107T060000
END:STANDARD
END:VTIMEZONE
BEGIN:VEVENT
DTSTART;TZID=America/New_York:20260105T180000
DTEND;TZID=America/New_York:20260105T190000
DTSTAMP:20260419T092513
CREATED:20251216T192348Z
LAST-MODIFIED:20260123T113355Z
UID:10000614-1767636000-1767639600@easyespanol.org
SUMMARY:Conversation Session: Cocina y Cultura (Middle Beginners A1-A2)
DESCRIPTION:This Spanish Conversation Session live online is perfect for the adventurous language learners who have some basic command of the Spanish language\, but want to expand their vocabulary and fluency while talking about something fun and interesting. \nParticipants will engage in lively discussions about but\, culture and traditions while learning all about ingredients\, drinks\, foods and culinary heritage of the Spanish-speaking world. \nNo pressure\, no grammar\, just fun! \nLeading coach: Agostina Horni \nLevel: Middle Beginners (A1/A2) \nCost: These sessions are free for our private students and members. All others: $14.50 \nAre you a member yet? Click HERE to join our MEMBERSHIP program. \nWhat to expect after registering: \n\nYou will receive an event ticket on your email confirming your registration. This ticket will also have the access link.\nThe day of the lesson you will receive a reminder with the access link to join.\nWe recommend using a computer with a good Internet connection to best enjoy the session.
URL:https://easyespanol.org/events/spanish-conversation-beginners-january-5/
LOCATION:https://easyespanol.org/events/spanish-conversation-beginners-january-5/
CATEGORIES:Monthly Conversatorio,Recurrent Conversatorio
ATTACH;FMTTYPE=image/png:https://easyespanol.org/wp-content/uploads/2022/12/Conversatorio-Cocina-y-Cultura.png
ORGANIZER;CN="Easy Espa%C3%B1ol":MAILTO:info@easyespanol.org
END:VEVENT
END:VCALENDAR