BEGIN:VCALENDAR
VERSION:2.0
PRODID:-//Easy Español - ECPv6.15.18//NONSGML v1.0//EN
CALSCALE:GREGORIAN
METHOD:PUBLISH
X-ORIGINAL-URL:https://easyespanol.org
X-WR-CALDESC:Events for Easy Español
REFRESH-INTERVAL;VALUE=DURATION:PT1H
X-Robots-Tag:noindex
X-PUBLISHED-TTL:PT1H
BEGIN:VTIMEZONE
TZID:America/New_York
BEGIN:DAYLIGHT
TZOFFSETFROM:-0500
TZOFFSETTO:-0400
TZNAME:EDT
DTSTART:20250309T070000
END:DAYLIGHT
BEGIN:STANDARD
TZOFFSETFROM:-0400
TZOFFSETTO:-0500
TZNAME:EST
DTSTART:20251102T060000
END:STANDARD
BEGIN:DAYLIGHT
TZOFFSETFROM:-0500
TZOFFSETTO:-0400
TZNAME:EDT
DTSTART:20260308T070000
END:DAYLIGHT
BEGIN:STANDARD
TZOFFSETFROM:-0400
TZOFFSETTO:-0500
TZNAME:EST
DTSTART:20261101T060000
END:STANDARD
BEGIN:DAYLIGHT
TZOFFSETFROM:-0500
TZOFFSETTO:-0400
TZNAME:EDT
DTSTART:20270314T070000
END:DAYLIGHT
BEGIN:STANDARD
TZOFFSETFROM:-0400
TZOFFSETTO:-0500
TZNAME:EST
DTSTART:20271107T060000
END:STANDARD
END:VTIMEZONE
BEGIN:VEVENT
DTSTART;TZID=America/New_York:20260122T180000
DTEND;TZID=America/New_York:20260122T190000
DTSTAMP:20260419T080756
CREATED:20260107T054355Z
LAST-MODIFIED:20260122T180738Z
UID:10000623-1769104800-1769108400@easyespanol.org
SUMMARY:Conversation Session: Intro to Literatura Hispanoamericana (Intermediates B2 & Up)
DESCRIPTION:This Conversation Session is a great opportunity for the language learner who has a strong command of the Spanish language and wants to get involved in group discussions in Spanish about language and literature.  \nIn this Spanish conversation session\, participants will step into the magical world of la literatura hispanoamericana. The group will read and discuss the work of great Latin American writers. This conversation session is ideal for polishing up advanced Spanish conversation skills.  \nNo grammar\, no structure\, no pressure\, just fun! \nLeading coach: Patricia Calderón \nLevel: Higher Intermediates & Advanced (B2 & Up) \nCost: These sessions are free for our private students and members. All others: $14.50 \nAre you a member yet? Click HERE to join our MEMBERSHIP program. \nWhat to expect after registering: \n\nYou will receive an event ticket on your email confirming your registration. This ticket will also have the access link.\nThe day of the lesson you will receive a reminder with the access link to join.\nWe recommend using a computer with a good Internet connection to best enjoy the session.
URL:https://easyespanol.org/events/spanish-conversation-literature-january-22/
LOCATION:https://easyespanol.org/events/spanish-conversation-literature-january-22/
CATEGORIES:Monthly Conversatorio,Recurrent Conversatorio
ATTACH;FMTTYPE=image/png:https://easyespanol.org/wp-content/uploads/2026/01/Conversatorio-Literatura-2.png
ORGANIZER;CN="Easy Espa%C3%B1ol":MAILTO:info@easyespanol.org
END:VEVENT
END:VCALENDAR