BEGIN:VCALENDAR
VERSION:2.0
PRODID:-//Easy Español - ECPv6.15.20//NONSGML v1.0//EN
CALSCALE:GREGORIAN
METHOD:PUBLISH
X-WR-CALNAME:Easy Español
X-ORIGINAL-URL:https://easyespanol.org
X-WR-CALDESC:Events for Easy Español
REFRESH-INTERVAL;VALUE=DURATION:PT1H
X-Robots-Tag:noindex
X-PUBLISHED-TTL:PT1H
BEGIN:VTIMEZONE
TZID:America/New_York
BEGIN:DAYLIGHT
TZOFFSETFROM:-0500
TZOFFSETTO:-0400
TZNAME:EDT
DTSTART:20240310T070000
END:DAYLIGHT
BEGIN:STANDARD
TZOFFSETFROM:-0400
TZOFFSETTO:-0500
TZNAME:EST
DTSTART:20241103T060000
END:STANDARD
BEGIN:DAYLIGHT
TZOFFSETFROM:-0500
TZOFFSETTO:-0400
TZNAME:EDT
DTSTART:20250309T070000
END:DAYLIGHT
BEGIN:STANDARD
TZOFFSETFROM:-0400
TZOFFSETTO:-0500
TZNAME:EST
DTSTART:20251102T060000
END:STANDARD
BEGIN:DAYLIGHT
TZOFFSETFROM:-0500
TZOFFSETTO:-0400
TZNAME:EDT
DTSTART:20260308T070000
END:DAYLIGHT
BEGIN:STANDARD
TZOFFSETFROM:-0400
TZOFFSETTO:-0500
TZNAME:EST
DTSTART:20261101T060000
END:STANDARD
END:VTIMEZONE
BEGIN:VEVENT
DTSTART;TZID=America/New_York:20250614T101500
DTEND;TZID=America/New_York:20250614T131500
DTSTAMP:20260424T010645
CREATED:20250519T053914Z
LAST-MODIFIED:20250613T201241Z
UID:10000495-1749896100-1749906900@easyespanol.org
SUMMARY:Spanish Guided Tour: Whitney Museum + High Line Walk
DESCRIPTION:Enjoy a Saturday full of art\, culture\, great company and mucho español!  \nWe’ll start our adventure at the Whitney Museum where we’ll explore their Shifting Landscapes exhibition\, featuring works from the 1960s to the present. \nWhether depicting the effects of industrialization on the environment\, grappling with the impact of geopolitical borders\, or proposing imagined spaces as a way of destabilizing the concept of a “natural” world\, the works gathered here bring ideas of land and place into focus\, foregrounding how we shape and are shaped by the spaces around us. \nAfter the museum\, we’ll keep the conversation going with a walk through the High Line. \nThe tour is completely in Spanish with English to clarify some specific topics. \nSpanish level: All levels are welcome\, but some knowledge of Spanish is highly recommended. \nMeeting point: Meet the group at the main entrance. \n\n\n \nHow much: $38 for all. The fee includes the museum tickets.
URL:https://easyespanol.org/events/spanish-guided-tour-whitney-museum-highline-walk/
LOCATION:Whitney Museum of American Art\, 99 Gansevoort Street\, New York\, 10014\, United States
CATEGORIES:Art Talk,In-Person Tour
ATTACH;FMTTYPE=image/png:https://easyespanol.org/wp-content/uploads/2025/05/Easy_Espanol_Whitney_Tour_BL.png
END:VEVENT
BEGIN:VEVENT
DTSTART;TZID=America/New_York:20250627T181500
DTEND;TZID=America/New_York:20250627T194500
DTSTAMP:20260424T010645
CREATED:20250609T050557Z
LAST-MODIFIED:20250610T003935Z
UID:10000512-1751048100-1751053500@easyespanol.org
SUMMARY:Spanish Guided Tour at The MET: Picasso\, Dali and Miró
DESCRIPTION:Have fun practicing your Spanish conversation skills during an enjoyable evening of arte y español \nThis month\, join us at the museum for an exclusive tour of key masterpieces by Picasso\, Dalí and Miró. During our visit\, we’ll pick up helpful tips on how to look beyond the surface of the canvas and discuss their social\, cultural and historical background. \nCome practice your Spanish conversation skills while we admire and analyze The Crucifixion by Dalí\, amazing paintings from Picasso’s Blue period and twentieth-century avant-garde paintings by Joan Miró.  \nThe tour is completely in Spanish with English to clarify some specific topics. \nSpanish level: All levels are welcome\, but some knowledge of Spanish is highly recommended. \nMeeting point: Meet the group by the information desk by the Egyptian effigy. \n\n\n \nHow much: $38 for non-members. The fee includes the museum tickets. \n$25 for Easy Español Members / Private Students. Click here to log in and register.
URL:https://easyespanol.org/events/spanish-guided-tour-met-picasso-dali-miro/
LOCATION:The Metropolitan Museum of Art\, 5th Ave\, New York\, NY\, 1000\, United States
CATEGORIES:Art Talk,In-Person Tour
ATTACH;FMTTYPE=image/png:https://easyespanol.org/wp-content/uploads/2025/06/Easy_Espanol_MET_Tour_June_2025.png
END:VEVENT
END:VCALENDAR