BEGIN:VCALENDAR
VERSION:2.0
PRODID:-//Easy Español - ECPv6.15.20//NONSGML v1.0//EN
CALSCALE:GREGORIAN
METHOD:PUBLISH
X-ORIGINAL-URL:https://easyespanol.org
X-WR-CALDESC:Events for Easy Español
REFRESH-INTERVAL;VALUE=DURATION:PT1H
X-Robots-Tag:noindex
X-PUBLISHED-TTL:PT1H
BEGIN:VTIMEZONE
TZID:America/New_York
BEGIN:DAYLIGHT
TZOFFSETFROM:-0500
TZOFFSETTO:-0400
TZNAME:EDT
DTSTART:20240310T070000
END:DAYLIGHT
BEGIN:STANDARD
TZOFFSETFROM:-0400
TZOFFSETTO:-0500
TZNAME:EST
DTSTART:20241103T060000
END:STANDARD
BEGIN:DAYLIGHT
TZOFFSETFROM:-0500
TZOFFSETTO:-0400
TZNAME:EDT
DTSTART:20250309T070000
END:DAYLIGHT
BEGIN:STANDARD
TZOFFSETFROM:-0400
TZOFFSETTO:-0500
TZNAME:EST
DTSTART:20251102T060000
END:STANDARD
BEGIN:DAYLIGHT
TZOFFSETFROM:-0500
TZOFFSETTO:-0400
TZNAME:EDT
DTSTART:20260308T070000
END:DAYLIGHT
BEGIN:STANDARD
TZOFFSETFROM:-0400
TZOFFSETTO:-0500
TZNAME:EST
DTSTART:20261101T060000
END:STANDARD
END:VTIMEZONE
BEGIN:VEVENT
DTSTART;TZID=America/New_York:20250705T110000
DTEND;TZID=America/New_York:20250705T120000
DTSTAMP:20260423T233955
CREATED:20250627T210219Z
LAST-MODIFIED:20250627T210227Z
UID:10000529-1751713200-1751716800@easyespanol.org
SUMMARY:Virtual Art Visit in Spanish: Tell me a picture
DESCRIPTION:Enjoy a morning of arte en español while we discuss an intriguing painting! \n}During this art visit in Spanish\, we’ll take a closer look at Antonio Gisbert Pérez’ El fusilamiento del general Torrijos. This masterpiece depicts a key moment of Spain’s history and  it’s considered one of the finest Spanish paintings of the 19th century. \nThis is a fantastic opportunity to improve your Spanish speaking and listening skills while developing critical thinking and art appreciation abilities in a friendly setting. \nThe talk will be in Spanish with English for clarification only. \nSpanish level: Upper Beginners & Up \nWhere: Online Classroom \n\n\n \nHow much: $10 for non-members.  \nFREE for Easy Español Members / Private Students. Click here to log in and register.    
URL:https://easyespanol.org/events/virtual-art-visit-spanish-conversation/
CATEGORIES:Art Talk,Virtual Tours
ATTACH;FMTTYPE=image/png:https://easyespanol.org/wp-content/uploads/2025/03/Easy_Espanol_Cuentame_Un_Cuadro_April_BL.png
LOCATION:https://easyespanol.org/events/virtual-art-visit-spanish-conversation/
END:VEVENT
BEGIN:VEVENT
DTSTART;TZID=America/New_York:20250712T113000
DTEND;TZID=America/New_York:20250712T143000
DTSTAMP:20260423T233955
CREATED:20250703T215244Z
LAST-MODIFIED:20250703T222409Z
UID:10000532-1752319800-1752330600@easyespanol.org
SUMMARY:Spanish Guided City Tour: Bowling Green Architecture and History
DESCRIPTION:Have a great day exploring the city and speaking Spanish with amigos! \nDuring this special guided tour\, we will learn about the architectural and historical background of the spectacular buildings surrounding the Bowling Green. We will also get to ride the Staten Island Ferry\, visit the Museum of the American Indian and learn more fun facts about the about the historic\, social\, economic\, and political forces that have shaped New York City through the years. \nAfter riding the Staten Island Ferry\, the group will head to Tacos N. 1 for delicious tacos and refreshments. \nSpanish level: All levels are welcome \nWhere: Alexander Hamilton Custom House (National Museum of the Native American Indian) \nMeeting point: Meet the group in front of the National Museum of the American Indian. Please be on time. \n\n\n \nHow much: $15 in online advanced payment ($20 cash on the day of the event) \nDiscount for Private Students & Members: $10.
URL:https://easyespanol.org/events/spanish-guided-tour-new-york-bowling-green/
LOCATION:Alexander Hamilton Custom House (National Museum of the Native American Indian)\, 1 Bowling Green\, New York\, NY\, 10004\, United States
CATEGORIES:Art Talk,In-Person Tour
ATTACH;FMTTYPE=image/png:https://easyespanol.org/wp-content/uploads/2025/07/BOWLING-GREEN-TOUR-2025_BL.png
END:VEVENT
END:VCALENDAR