BEGIN:VCALENDAR
VERSION:2.0
PRODID:-//Easy Español - ECPv6.15.20//NONSGML v1.0//EN
CALSCALE:GREGORIAN
METHOD:PUBLISH
X-ORIGINAL-URL:https://easyespanol.org
X-WR-CALDESC:Events for Easy Español
REFRESH-INTERVAL;VALUE=DURATION:PT1H
X-Robots-Tag:noindex
X-PUBLISHED-TTL:PT1H
BEGIN:VTIMEZONE
TZID:America/New_York
BEGIN:DAYLIGHT
TZOFFSETFROM:-0500
TZOFFSETTO:-0400
TZNAME:EDT
DTSTART:20250309T070000
END:DAYLIGHT
BEGIN:STANDARD
TZOFFSETFROM:-0400
TZOFFSETTO:-0500
TZNAME:EST
DTSTART:20251102T060000
END:STANDARD
BEGIN:DAYLIGHT
TZOFFSETFROM:-0500
TZOFFSETTO:-0400
TZNAME:EDT
DTSTART:20260308T070000
END:DAYLIGHT
BEGIN:STANDARD
TZOFFSETFROM:-0400
TZOFFSETTO:-0500
TZNAME:EST
DTSTART:20261101T060000
END:STANDARD
BEGIN:DAYLIGHT
TZOFFSETFROM:-0500
TZOFFSETTO:-0400
TZNAME:EDT
DTSTART:20270314T070000
END:DAYLIGHT
BEGIN:STANDARD
TZOFFSETFROM:-0400
TZOFFSETTO:-0500
TZNAME:EST
DTSTART:20271107T060000
END:STANDARD
END:VTIMEZONE
BEGIN:VEVENT
DTSTART;TZID=America/New_York:20260228T130000
DTEND;TZID=America/New_York:20260228T143000
DTSTAMP:20260424T085707
CREATED:20260211T042433Z
LAST-MODIFIED:20260223T200405Z
UID:10000646-1772283600-1772289000@easyespanol.org
SUMMARY:FREE In-Person Guided Tour & Discussion: Puertorriqueños\, Arte y Resistencia
DESCRIPTION:Let’s visit the New York Public Library to talk about Puerto Rico! \nDuring this guided tour we’ll take a closer look at the history and social struggles of Puerto Rico through their art. \nAs we explore the exhibit\, we’ll also discuss the the Puerto Rican diaspora and the major significance of Bad Bunny’s Super Bowl halftime show. After the guided tour\, the group will go to a nearby bar for food and drinks. \nThe tour is completely in Spanish with English to clarify some specific topics. \nSpanish level: All levels are welcome\, but some knowledge of Spanish is highly recommended. \nMeeting point: Meet us inside the library\, near the entrance. \n\n\n \nHow much: Free registration; food not included.
URL:https://easyespanol.org/events/spanish-in-person-guided-tour-discussion-puerto-rico/
LOCATION:New York Public Library – Stephen A. Schwarzman Building\, 476 5th Avenue\, New York\, United States
CATEGORIES:Art Talk,In-Person Tour
ATTACH;FMTTYPE=image/png:https://easyespanol.org/wp-content/uploads/2026/02/Guided-Tour-NYPL-Febrero-2026_Promo_BL.png
ORGANIZER;CN="Easy Espa%C3%B1ol":MAILTO:info@easyespanol.org
END:VEVENT
BEGIN:VEVENT
DTSTART;TZID=America/New_York:20260307T120000
DTEND;TZID=America/New_York:20260307T130000
DTSTAMP:20260424T085707
CREATED:20260304T051617Z
LAST-MODIFIED:20260304T051617Z
UID:10000654-1772884800-1772888400@easyespanol.org
SUMMARY:Virtual Art Visit in Spanish - Tell me a picture: Creation of Birds
DESCRIPTION:Join us for a fascinating art discussion in Spanish! \nThis month we’ll visit the Museo de Arte Moderno de México to take a closer look at the Surrealist painting Creación de las aves (Creation of the Birds). \nThis striking and intriguing painting is the work of Spanish artist Remedios Varo\, known for her mystical\, esoteric and magical pieces. \nThis is a fantastic opportunity to improve your Spanish speaking and listening skills while developing critical thinking and art appreciation abilities in a friendly setting. \nThe talk will be in Spanish with English for clarification only. \nSpanish level: Upper Beginners & Up \nWhere: Online Classroom \n\n\n \nHow much: $10 for non-members.  \nFREE for Easy Español Members / Private Students.  \nClick here to log in and register.
URL:https://easyespanol.org/events/virtual-art-visit-in-spanish-remedios-varo/
CATEGORIES:Art Talk,Virtual Tours
ATTACH;FMTTYPE=image/png:https://easyespanol.org/wp-content/uploads/2025/03/Easy_Espanol_Cuentame_Un_Cuadro_April_BL.png
ORGANIZER;CN="Easy Espa%C3%B1ol":MAILTO:info@easyespanol.org
LOCATION:https://us02web.zoom.us/j/82366395865
END:VEVENT
BEGIN:VEVENT
DTSTART;TZID=America/New_York:20260404T110000
DTEND;TZID=America/New_York:20260404T120000
DTSTAMP:20260424T085707
CREATED:20260330T034735Z
LAST-MODIFIED:20260404T062838Z
UID:10000669-1775300400-1775304000@easyespanol.org
SUMMARY:Virtual Art Visit in Spanish - Tell me a picture: Café Terrace at Night
DESCRIPTION:Join us for a fascinating art discussion in Spanish! \nThis month we’ll visit the Kröller-Müller Museum to solve the mystery of Van Gogh’s Café Terrace at Night.  Van Gogh painted this masterpiece in Arles\, France\, in mid-September 1888. \nThis is the first painting in which he used starry backgrounds; he went on to paint star-filled skies in Starry Night Over the Rhône (painted the same month)\, and the better known The Starry Night a year later. \nTogether\, we’ll decode the painting’s hidden message that will change the way we interpret this work and art in general. \nThis is a fantastic opportunity to improve your Spanish speaking and listening skills while developing critical thinking and art appreciation abilities in a friendly setting. \nThe talk will be in Spanish with English for clarification only. \nSpanish level: Upper Beginners & Up \nWhere: Online Classroom \n\n\n \nHow much: $10 for non-members.  \nFREE for Easy Español Members / Private Students.  Click here to log in and register.
URL:https://easyespanol.org/events/virtual-art-visit-in-spanish-tell-me-a-picture-cafe-terrace-at-night/
CATEGORIES:Art Talk,Virtual Tours
ATTACH;FMTTYPE=image/png:https://easyespanol.org/wp-content/uploads/2026/03/CUENTAME-UN-CUADRO-Abril-2026-BL.png
ORGANIZER;CN="Easy Espa%C3%B1ol":MAILTO:info@easyespanol.org
LOCATION:https://easyespanol.org/events/virtual-art-visit-in-spanish-tell-me-a-picture-cafe-terrace-at-night/
END:VEVENT
END:VCALENDAR