BEGIN:VCALENDAR
VERSION:2.0
PRODID:-//Easy Español - ECPv6.15.20//NONSGML v1.0//EN
CALSCALE:GREGORIAN
METHOD:PUBLISH
X-WR-CALNAME:Easy Español
X-ORIGINAL-URL:https://easyespanol.org
X-WR-CALDESC:Events for Easy Español
REFRESH-INTERVAL;VALUE=DURATION:PT1H
X-Robots-Tag:noindex
X-PUBLISHED-TTL:PT1H
BEGIN:VTIMEZONE
TZID:America/New_York
BEGIN:DAYLIGHT
TZOFFSETFROM:-0500
TZOFFSETTO:-0400
TZNAME:EDT
DTSTART:20250309T070000
END:DAYLIGHT
BEGIN:STANDARD
TZOFFSETFROM:-0400
TZOFFSETTO:-0500
TZNAME:EST
DTSTART:20251102T060000
END:STANDARD
BEGIN:DAYLIGHT
TZOFFSETFROM:-0500
TZOFFSETTO:-0400
TZNAME:EDT
DTSTART:20260308T070000
END:DAYLIGHT
BEGIN:STANDARD
TZOFFSETFROM:-0400
TZOFFSETTO:-0500
TZNAME:EST
DTSTART:20261101T060000
END:STANDARD
BEGIN:DAYLIGHT
TZOFFSETFROM:-0500
TZOFFSETTO:-0400
TZNAME:EDT
DTSTART:20270314T070000
END:DAYLIGHT
BEGIN:STANDARD
TZOFFSETFROM:-0400
TZOFFSETTO:-0500
TZNAME:EST
DTSTART:20271107T060000
END:STANDARD
END:VTIMEZONE
BEGIN:VEVENT
DTSTART;TZID=America/New_York:20260123T173000
DTEND;TZID=America/New_York:20260123T183000
DTSTAMP:20260422T213211
CREATED:20260121T060007Z
LAST-MODIFIED:20260123T162532Z
UID:10000633-1769189400-1769193000@easyespanol.org
SUMMARY:Conversation Session: Lower Intermediates B1 & Up
DESCRIPTION:These Conversation Sessions have been personally drafted by our Academic Director and Founder\, Jorge Gallegos to offer Intermediate language speakers a unique opportunity to improve their Spanish conversation skills in an enjoyable\, and congenial environment among like-minded Spanish enthusiasts.  \nAll participants engage in intellectually stimulating conversations on many topics like art\, literature\, history\, culture literature and more. Essential vocabulary and language structure will be honed for natural and effective communication in Spanish.  \n  \nLevel: Intermediates B1 & Up \nCost: These sessions are free for our Premium Members. All others: $20 \nSpace is limited to 6 participants\, RSVP now!  \n  \nAre you a member yet? Click HERE to join our MEMBERSHIP program. \nWhat to expect after registering: \n\nYou will receive an event ticket on your email confirming your registration. This ticket will also have the access link.\nThe day of the lesson you will receive a reminder with the access link to join.\nWe recommend using a computer with a good Internet connection to best enjoy the session.
URL:https://easyespanol.org/events/online-spanish-conversation-session-01-23/
CATEGORIES:Group Conversation Sessions,TALK GROUP-Lower Intermediates
ATTACH;FMTTYPE=image/png:https://easyespanol.org/wp-content/uploads/2025/03/TALK-Intermediates-3.png
ORGANIZER;CN="Easy Espa%C3%B1ol":MAILTO:info@easyespanol.org
LOCATION:https://easyespanol.org/events/online-spanish-conversation-session-01-23/
END:VEVENT
BEGIN:VEVENT
DTSTART;TZID=America/New_York:20260128T120000
DTEND;TZID=America/New_York:20260128T130000
DTSTAMP:20260422T213211
CREATED:20260121T052707Z
LAST-MODIFIED:20260127T130214Z
UID:10000630-1769601600-1769605200@easyespanol.org
SUMMARY:Spanish Conversation Session for Beginners A1/A2
DESCRIPTION:This Conversation Session is ideal for Beginner learners who have studied Spanish before but are self-conscious and need a safe environment to practice Spanish conversation to gain fluency. \nThese sessions have been carefully crafted following our principle of Language Empowerment. They are guided by one of our best language coaches\, Mónica Endara. \nAll participants engage in lively discussions on a wide range of topics such as tourism\, food\, culture\, current events and more. The coach provides assistance and reassurance and creates a welcoming environment to promote talking en español at all times. \nNo grammar\, no structure\, no pressure\, just fun! Leading coach: Mónica Endara Level: Lower Beginners (A1) – Upper Beginners (A2) Cost: These sessions are free for our private students and members. All others: $14.50 Are you a member yet? Click HERE to join our MEMBERSHIP program. \nWhat to expect after registering: \n\nYou will receive an event ticket on your email confirming your registration. This ticket will also have the access link.\nThe day of the lesson you will receive a reminder with the access link to join.\nWe recommend using a computer with a good Internet connection to best enjoy the session.
URL:https://easyespanol.org/events/spanish-conversation-sessions-january-28/
CATEGORIES:Group Conversation Sessions,Recurrent Conversatorio,Weekly Conversatorio
ATTACH;FMTTYPE=image/png:https://easyespanol.org/wp-content/uploads/2022/12/Conversatorio-Viajes-y-Cultura.png
ORGANIZER;CN="Easy Espa%C3%B1ol":MAILTO:info@easyespanol.org
END:VEVENT
BEGIN:VEVENT
DTSTART;TZID=America/New_York:20260129T180000
DTEND;TZID=America/New_York:20260129T190000
DTSTAMP:20260422T213211
CREATED:20260114T143754Z
LAST-MODIFIED:20260129T151211Z
UID:10000628-1769709600-1769713200@easyespanol.org
SUMMARY:Conversation Session: Language & Culture (Upper Beginners A2 & Up)
DESCRIPTION:This Conversation Session is perfect for those language learners who want to hone in their speaking and listening abilities while expanding their knowledge of Hispanic culture. \nThese sessions are specifically designed to encourage all participants to ask questions\, interact among each other and practice speaking Spanish\, always guided by one of our experienced coaches. \nNo pressure\, just fun! \nLeading coach: Edith Celín \nLevel: Upper Beginners A2 & Up \nCost: These sessions are free for our private students and members. All others\, $14.50. \nAre you a member yet? Click HERE to join our MEMBERSHIP program. \nWhat to expect after registering: \n\nYou will receive an event ticket on your email confirming your registration. This ticket will also have the access link.\nThe day of the lesson you will receive a reminder with the access link to join.\nWe recommend using a computer with a good Internet connection to best enjoy the session.
URL:https://easyespanol.org/events/conversation-session-language-culture/
CATEGORIES:Group Conversation Sessions,Monthly Conversatorio,Recurrent Conversatorio
ATTACH;FMTTYPE=image/png:https://easyespanol.org/wp-content/uploads/2022/12/Conversatorio-Anything-Goes-2.png
ORGANIZER;CN="Easy Espa%C3%B1ol":MAILTO:info@easyespanol.org
END:VEVENT
BEGIN:VEVENT
DTSTART;TZID=America/New_York:20260130T173000
DTEND;TZID=America/New_York:20260130T183000
DTSTAMP:20260422T213211
CREATED:20260121T060017Z
LAST-MODIFIED:20260123T162341Z
UID:10000632-1769794200-1769797800@easyespanol.org
SUMMARY:Conversation Session: Lower Intermediates B1 & Up
DESCRIPTION:These Conversation Sessions have been personally drafted by our Academic Director and Founder\, Jorge Gallegos to offer Intermediate language speakers a unique opportunity to improve their Spanish conversation skills in an enjoyable\, and congenial environment among like-minded Spanish enthusiasts.  \nAll participants engage in intellectually stimulating conversations on many topics like art\, literature\, history\, culture literature and more. Essential vocabulary and language structure will be honed for natural and effective communication in Spanish.  \n  \nLevel: Intermediates B1 & Up \nCost: These sessions are free for our Premium Members. All others: $20 \nSpace is limited to 6 participants\, RSVP now!  \n  \nAre you a member yet? Click HERE to join our MEMBERSHIP program. \nWhat to expect after registering: \n\nYou will receive an event ticket on your email confirming your registration. This ticket will also have the access link.\nThe day of the lesson you will receive a reminder with the access link to join.\nWe recommend using a computer with a good Internet connection to best enjoy the session.
URL:https://easyespanol.org/events/online-spanish-conversation-session-01-30/
CATEGORIES:Group Conversation Sessions,TALK GROUP-Lower Intermediates
ATTACH;FMTTYPE=image/png:https://easyespanol.org/wp-content/uploads/2025/03/TALK-Intermediates-3.png
ORGANIZER;CN="Easy Espa%C3%B1ol":MAILTO:info@easyespanol.org
LOCATION:https://easyespanol.org/events/online-spanish-conversation-session-01-30/
END:VEVENT
END:VCALENDAR