BEGIN:VCALENDAR
VERSION:2.0
PRODID:-//Easy Español - ECPv6.15.20//NONSGML v1.0//EN
CALSCALE:GREGORIAN
METHOD:PUBLISH
X-WR-CALNAME:Easy Español
X-ORIGINAL-URL:https://easyespanol.org
X-WR-CALDESC:Events for Easy Español
REFRESH-INTERVAL;VALUE=DURATION:PT1H
X-Robots-Tag:noindex
X-PUBLISHED-TTL:PT1H
BEGIN:VTIMEZONE
TZID:America/New_York
BEGIN:DAYLIGHT
TZOFFSETFROM:-0500
TZOFFSETTO:-0400
TZNAME:EDT
DTSTART:20240310T070000
END:DAYLIGHT
BEGIN:STANDARD
TZOFFSETFROM:-0400
TZOFFSETTO:-0500
TZNAME:EST
DTSTART:20241103T060000
END:STANDARD
BEGIN:DAYLIGHT
TZOFFSETFROM:-0500
TZOFFSETTO:-0400
TZNAME:EDT
DTSTART:20250309T070000
END:DAYLIGHT
BEGIN:STANDARD
TZOFFSETFROM:-0400
TZOFFSETTO:-0500
TZNAME:EST
DTSTART:20251102T060000
END:STANDARD
BEGIN:DAYLIGHT
TZOFFSETFROM:-0500
TZOFFSETTO:-0400
TZNAME:EDT
DTSTART:20260308T070000
END:DAYLIGHT
BEGIN:STANDARD
TZOFFSETFROM:-0400
TZOFFSETTO:-0500
TZNAME:EST
DTSTART:20261101T060000
END:STANDARD
BEGIN:DAYLIGHT
TZOFFSETFROM:-0500
TZOFFSETTO:-0400
TZNAME:EDT
DTSTART:20270314T070000
END:DAYLIGHT
BEGIN:STANDARD
TZOFFSETFROM:-0400
TZOFFSETTO:-0500
TZNAME:EST
DTSTART:20271107T060000
END:STANDARD
END:VTIMEZONE
BEGIN:VEVENT
DTSTART;TZID=America/New_York:20251101T113000
DTEND;TZID=America/New_York:20251101T143000
DTSTAMP:20260424T003205
CREATED:20251023T181845Z
LAST-MODIFIED:20251023T181845Z
UID:10000584-1761996600-1762007400@easyespanol.org
SUMMARY:Spanish Walk & Talk through Fort Tyron Park + Dominican Brunch
DESCRIPTION:Start November in the company of great folks and mucho español! \nCome with us on an exciting guided tour through Washington Heights and Fort Tyron Park. During our walk\, we’ll learn about the culture and history of this vibrant neighborhood\, take lots of pictures\, and have a blast chatting en español.  \nWe’ll start the tour at 181 St and Fort Washington Street (next to the Starbucks Cafe). Then\, after our initial talk about this historical site\, we’ll head to Fort Tyron Park to enjoy the views and take pictures while enjoying some casual conversation. \nWe’ll end out tour with a delicious brunch at an authentic Dominican restaurant nearby. \nThis event is perfect for Spanish enthusiasts of all levels who enjoy learning about culture and history\, taking pictures\, meeting new amigos\, and practicing their español out in the real world! \nMeeting point: Meet the group on 181 St and Fort Washington Avenue\, next to the Starbucks \n\n\n \nHow much: Free for all. Food not included.
URL:https://easyespanol.org/events/practice-spanish-walk-talk-fort-tyron-park/
LOCATION:West 181 St. & Fort Washington Ave.\, West 181 St. & Fort Washington Ave.\, New York\, 10033\, United States
CATEGORIES:In-Person Tour
ATTACH;FMTTYPE=image/png:https://easyespanol.org/wp-content/uploads/2025/10/Easy_Espanol_Walk-and-Talk-Fort-Tyron-Park_BL.png
END:VEVENT
BEGIN:VEVENT
DTSTART;TZID=America/New_York:20251122T160000
DTEND;TZID=America/New_York:20251122T180000
DTSTAMP:20260424T003205
CREATED:20251106T232026Z
LAST-MODIFIED:20251122T143227Z
UID:10000595-1763827200-1763834400@easyespanol.org
SUMMARY:Meet & Greet: Talk in Spanish and Make New Friends
DESCRIPTION:Let’s share a few laughs\, a couple of drinks and talk in Spanish with new and old amigos! \nJoin us over at Annie Moore’s in NYC to meet other Spanish aficionados and practice your Spanish speaking skills in a chill\, friendly setting. \nForget about having the perfect opening line and nailing all tense conjugations for the day\, and just have fun talking en español with cool\, new people. \nThis event is at a bar. Everybody partaking in this event must buy at least 1 drink to support the venue. \nSpanish level: All levels are welcome! \nWhere: Annie Moore’s – 22 E 41st St. \nMeeting point: Ask the bartender for the Spanish group \n\n\n \nHow much: Free registration\, but you must purchase a minimum of 1 drink.
URL:https://easyespanol.org/events/meet-greet-talk-in-spanish-nyc/
LOCATION:Annie Moore’s\, 22 E 41st St\, New York\, New York\, 10017\, United States
CATEGORIES:In-Person Tour
ATTACH;FMTTYPE=image/png:https://easyespanol.org/wp-content/uploads/2025/11/MEETGREET-NOVEMBER2025-BL.png
END:VEVENT
BEGIN:VEVENT
DTSTART;TZID=America/New_York:20251220T110000
DTEND;TZID=America/New_York:20251220T130000
DTSTAMP:20260424T003205
CREATED:20251203T042819Z
LAST-MODIFIED:20251203T042819Z
UID:10000610-1766228400-1766235600@easyespanol.org
SUMMARY:Spanish / English Language Exchange + Brunch
DESCRIPTION:Work on your Spanish while helping others work on their English over a delicious brunch! \nHow does it work: \nWe’ll have two levels (Beginners & Intermediate and Up). Participants will work in pairs and switch partners every 8 minutes to maximize interaction with different language partners. We’ll start with Spanish and practice for approximately 40 minutes depending on the number of participants. \nThen\, the group will switch to English and repeat the same procedure for another 40 minutes. This is the perfect opportunity to meet cool new people\, enjoy a delicious meal and have lots of fun\, casual conversations in both Spanish and English! Remember\, practice makes perfect. \nPlease be respectful of others and be on time. \nSpanish level: All levels are welcome! \nWhere: ‘ESSEN Restaurant 290 Madison Ave\, New York\, NY 10017 \nMeeting point: Go to the second floor and look for the group. \n\n\n \nHow much: Free registration\, but you MUST be willing to have brunch with the group and pay for your consumption.
URL:https://easyespanol.org/events/spanish-english-language-exchange-december/
LOCATION:Essen Fast Slow Food\, 290 Madison Avenue\, New York\, NY\, 10017\, United States
CATEGORIES:In-Person Tour
ATTACH;FMTTYPE=image/png:https://easyespanol.org/wp-content/uploads/2025/05/MEETGREET-JUNE-2025-BL.png
END:VEVENT
BEGIN:VEVENT
DTSTART;TZID=America/New_York:20260117T113000
DTEND;TZID=America/New_York:20260117T133000
DTSTAMP:20260424T003205
CREATED:20260112T055759Z
LAST-MODIFIED:20260116T234653Z
UID:10000626-1768649400-1768656600@easyespanol.org
SUMMARY:Spanish / English Language Exchange + Brunch
DESCRIPTION:Join us for our first Language Exchange of 2026! \nHow does it work: \nWe’ll have two levels (Beginners & Intermediate and Up). Participants will work in pairs and switch partners every 8 minutes to maximize interaction with different language partners. We’ll start with Spanish and practice for approximately 40 minutes depending on the number of participants. \nThen\, the group will switch to English and repeat the same procedure for another 40 minutes. This is the perfect opportunity to meet cool new people\, enjoy a delicious meal and have lots of fun\, casual conversations in both Spanish and English! Remember\, practice makes perfect. \nPlease be respectful of others and be on time. \nSpanish level: All levels are welcome! \nWhere: ‘ESSEN Restaurant 290 Madison Ave\, New York\, NY 10017 \nMeeting point: Go to the second floor and look for the group. \n\n\n \nHow much: Free registration\, but you MUST be willing to have brunch with the group and pay for your consumption.
URL:https://easyespanol.org/events/spanish-english-language-exchange-brunch-january/
LOCATION:Essen Fast Slow Food\, 290 Madison Avenue\, New York\, NY\, 10017\, United States
CATEGORIES:In-Person Tour
ATTACH;FMTTYPE=image/png:https://easyespanol.org/wp-content/uploads/2026/01/BRUNCH-JANUARY-2026-BL.png
ORGANIZER;CN="Easy Espa%C3%B1ol":MAILTO:info@easyespanol.org
END:VEVENT
BEGIN:VEVENT
DTSTART;TZID=America/New_York:20260131T110000
DTEND;TZID=America/New_York:20260131T130000
DTSTAMP:20260424T003205
CREATED:20260121T044626Z
LAST-MODIFIED:20260131T135840Z
UID:10000629-1769857200-1769864400@easyespanol.org
SUMMARY:In-Spanish Guided Tour at the New York Public Library: Puerto Ricans in the World of Comics
DESCRIPTION:¡Vamos a la biblioteca! \nLet’s explore the rich culture and history of Puerto Rico through the unique perspective of comic books. \nThis exhibition located at the New York Public Library “draws primarily from the Library’s Manuel Martínez Nazario Collection of Puerto Ricans in the World of Comics. It explores aspects of Puerto Rican life and culture along the axes of space (representations of “the Island” itself; Puerto Rican relationships with New York City) and time (Puerto Rico’s complex past; Puerto Rican visions of futuristic and fantasy worlds).” \nDuring our tour\, we’ll discuss Puerto Rico’s cultural and political impact both on the island and on NYC\, all en español\, of course. After the tour\, we’ll grab some delicious Mexican tacos and keep the conversation going! \nThe tour is completely in Spanish with English to clarify some specific topics. \nSpanish level: All levels are welcome\, but some knowledge of Spanish is highly recommended. \nMeeting point: Meet us inside the library\, near the entrance. \n\n\n \nHow much: $10; food not included.
URL:https://easyespanol.org/events/panish-guided-tour-public-library-puerto-ricans-comics/
LOCATION:New York Public Library – Stephen A. Schwarzman Building\, 476 5th Avenue\, New York\, United States
CATEGORIES:In-Person Tour
ATTACH;FMTTYPE=image/png:https://easyespanol.org/wp-content/uploads/2026/01/Guided_Tour_Biblioteca_Publica_Puertorriquenos_Comis_BL.png
ORGANIZER;CN="Easy Espa%C3%B1ol":MAILTO:info@easyespanol.org
END:VEVENT
BEGIN:VEVENT
DTSTART;TZID=America/New_York:20260221T180000
DTEND;TZID=America/New_York:20260221T200000
DTSTAMP:20260424T003205
CREATED:20260131T184919Z
LAST-MODIFIED:20260220T221405Z
UID:10000637-1771696800-1771704000@easyespanol.org
SUMMARY:Meet & Greet: Talk in Spanish and Make New Friends
DESCRIPTION:Let’s share a few laughs\, a couple of drinks and talk in Spanish with new and old amigos! \nJoin us over at Annie Moore’s in NYC to meet other Spanish aficionados and practice your Spanish speaking skills in a chill\, friendly setting. \nForget about having the perfect opening line and nailing all tense conjugations for the day\, and just have fun talking en español with cool\, new people. \nThis event is at a bar. Everybody partaking in this event must buy at least 1 drink to support the venue. \nSpanish level: All levels are welcome! \nWhere: Annie Moore’s – 22 E 41st St. \nMeeting point: Ask the bartender for the Spanish group \n\n\n \nHow much: Free registration\, but you must purchase a minimum of 1 drink.
URL:https://easyespanol.org/events/meet-greet-talk-in-spanish-and-make-new-friends/
LOCATION:Annie Moore’s\, 22 E 41st St\, New York\, New York\, 10017\, United States
CATEGORIES:In-Person Tour
ATTACH;FMTTYPE=image/png:https://easyespanol.org/wp-content/uploads/2026/01/MEETGREET-FEBRUARY2026_BL.png
ORGANIZER;CN="Easy Espa%C3%B1ol":MAILTO:info@easyespanol.org
END:VEVENT
BEGIN:VEVENT
DTSTART;TZID=America/New_York:20260228T130000
DTEND;TZID=America/New_York:20260228T143000
DTSTAMP:20260424T003205
CREATED:20260211T042433Z
LAST-MODIFIED:20260223T200405Z
UID:10000646-1772283600-1772289000@easyespanol.org
SUMMARY:FREE In-Person Guided Tour & Discussion: Puertorriqueños\, Arte y Resistencia
DESCRIPTION:Let’s visit the New York Public Library to talk about Puerto Rico! \nDuring this guided tour we’ll take a closer look at the history and social struggles of Puerto Rico through their art. \nAs we explore the exhibit\, we’ll also discuss the the Puerto Rican diaspora and the major significance of Bad Bunny’s Super Bowl halftime show. After the guided tour\, the group will go to a nearby bar for food and drinks. \nThe tour is completely in Spanish with English to clarify some specific topics. \nSpanish level: All levels are welcome\, but some knowledge of Spanish is highly recommended. \nMeeting point: Meet us inside the library\, near the entrance. \n\n\n \nHow much: Free registration; food not included.
URL:https://easyespanol.org/events/spanish-in-person-guided-tour-discussion-puerto-rico/
LOCATION:New York Public Library – Stephen A. Schwarzman Building\, 476 5th Avenue\, New York\, United States
CATEGORIES:Art Talk,In-Person Tour
ATTACH;FMTTYPE=image/png:https://easyespanol.org/wp-content/uploads/2026/02/Guided-Tour-NYPL-Febrero-2026_Promo_BL.png
ORGANIZER;CN="Easy Espa%C3%B1ol":MAILTO:info@easyespanol.org
END:VEVENT
BEGIN:VEVENT
DTSTART;TZID=America/New_York:20260321T180000
DTEND;TZID=America/New_York:20260321T200000
DTSTAMP:20260424T003205
CREATED:20260311T052024Z
LAST-MODIFIED:20260311T052024Z
UID:10000660-1774116000-1774123200@easyespanol.org
SUMMARY:Meet & Greet: Talk in Spanish and Make New Friends
DESCRIPTION:Let’s share a few laughs\, a couple of drinks and talk in Spanish with new and old amigos! \nJoin us over at Annie Moore’s in NYC to meet other Spanish aficionados and practice your Spanish speaking skills in a chill\, friendly setting. \nForget about having the perfect opening line and nailing all tense conjugations for the day\, and just have fun talking en español with cool\, new people. \nThis event is at a bar. Everybody partaking in this event must buy at least 1 drink to support the venue. \nSpanish level: All levels are welcome! \nWhere: Annie Moore’s – 22 E 41st St. \nMeeting point: Ask the bartender for the Spanish group \n\n\n \nHow much: Free registration\, but you must purchase a minimum of 1 drink.
URL:https://easyespanol.org/events/meet-greet-spanish-conversation-nyc/
LOCATION:Annie Moore’s\, 22 E 41st St\, New York\, New York\, 10017\, United States
CATEGORIES:In-Person Tour
ATTACH;FMTTYPE=image/png:https://easyespanol.org/wp-content/uploads/2026/01/MEETGREET-FEBRUARY2026_BL.png
ORGANIZER;CN="Easy Espa%C3%B1ol":MAILTO:info@easyespanol.org
END:VEVENT
BEGIN:VEVENT
DTSTART;TZID=America/New_York:20260411T170000
DTEND;TZID=America/New_York:20260411T190000
DTSTAMP:20260424T003205
CREATED:20260330T040457Z
LAST-MODIFIED:20260330T040457Z
UID:10000670-1775926800-1775934000@easyespanol.org
SUMMARY:Meet & Greet: Talk in Spanish and Make New Friends
DESCRIPTION:Let’s share a few laughs\, a couple of drinks and talk in Spanish with new and old amigos! \nJoin us over at Annie Moore’s in NYC to meet other Spanish aficionados and practice your Spanish speaking skills in a chill\, friendly setting. \nForget about having the perfect opening line and nailing all tense conjugations for the day\, and just have fun talking en español with cool\, new people. \nThis event is at a bar. Everybody partaking in this event must buy at least 1 drink to support the venue. \nSpanish level: All levels are welcome! \nWhere: Annie Moore’s – 22 E 41st St. \nMeeting point: Ask the bartender for the Spanish group \n\n\n \nHow much: Free registration\, but you must purchase a minimum of 1 drink.
URL:https://easyespanol.org/events/meet-greet-talk-spanish-nyc/
LOCATION:Annie Moore’s\, 22 E 41st St\, New York\, New York\, 10017\, United States
CATEGORIES:In-Person Tour
ATTACH;FMTTYPE=image/png:https://easyespanol.org/wp-content/uploads/2026/01/MEETGREET-FEBRUARY2026_BL.png
ORGANIZER;CN="Easy Espa%C3%B1ol":MAILTO:info@easyespanol.org
END:VEVENT
BEGIN:VEVENT
DTSTART;TZID=America/New_York:20260425T110000
DTEND;TZID=America/New_York:20260425T130000
DTSTAMP:20260424T003205
CREATED:20260413T041127Z
LAST-MODIFIED:20260413T041127Z
UID:10000677-1777114800-1777122000@easyespanol.org
SUMMARY:Mexican Brunch and Spanish Conversation with Amigos
DESCRIPTION:Practice your Spanish speaking skills while enjoying a delicious Mexican brunch. \nWe’ll get together at Sinigual\, an excellent Mexican restaurant in Manhattan\, and have a wonderful time in the great company of other Spanish enthusiasts. \nThe event starts at 11:00 am and we’ll start ordering at 11:30 am; please be respectful of others and be on time. \nSpanish level: All levels are welcome! \nWhere: Sinigual – 640 Third Avenue (at 41st Street) · New York\, NY. Meet us inside the restaurant. \n\n\n \nHow much: Free registration: food not included. \nWe’ll have just one big check for the group\, but you will pay just for what you order. No credit cards. No separate checks. You will only pay for what you consume.
URL:https://easyespanol.org/events/mexican-brunch-and-spanish-conversation-with-amigos/
LOCATION:Sinigual\, 640 Third Avenue (at 41st Street)\, NY\, NY\, 10017\, United States
CATEGORIES:In-Person Tour
ATTACH;FMTTYPE=image/png:https://easyespanol.org/wp-content/uploads/2026/04/Brunchayuno-Mexicicano-2026-BL.png
ORGANIZER;CN="Easy Espa%C3%B1ol":MAILTO:info@easyespanol.org
END:VEVENT
END:VCALENDAR