BEGIN:VCALENDAR
VERSION:2.0
PRODID:-//Easy Español - ECPv6.15.20//NONSGML v1.0//EN
CALSCALE:GREGORIAN
METHOD:PUBLISH
X-WR-CALNAME:Easy Español
X-ORIGINAL-URL:https://easyespanol.org
X-WR-CALDESC:Events for Easy Español
REFRESH-INTERVAL;VALUE=DURATION:PT1H
X-Robots-Tag:noindex
X-PUBLISHED-TTL:PT1H
BEGIN:VTIMEZONE
TZID:America/New_York
BEGIN:DAYLIGHT
TZOFFSETFROM:-0500
TZOFFSETTO:-0400
TZNAME:EDT
DTSTART:20250309T070000
END:DAYLIGHT
BEGIN:STANDARD
TZOFFSETFROM:-0400
TZOFFSETTO:-0500
TZNAME:EST
DTSTART:20251102T060000
END:STANDARD
BEGIN:DAYLIGHT
TZOFFSETFROM:-0500
TZOFFSETTO:-0400
TZNAME:EDT
DTSTART:20260308T070000
END:DAYLIGHT
BEGIN:STANDARD
TZOFFSETFROM:-0400
TZOFFSETTO:-0500
TZNAME:EST
DTSTART:20261101T060000
END:STANDARD
BEGIN:DAYLIGHT
TZOFFSETFROM:-0500
TZOFFSETTO:-0400
TZNAME:EDT
DTSTART:20270314T070000
END:DAYLIGHT
BEGIN:STANDARD
TZOFFSETFROM:-0400
TZOFFSETTO:-0500
TZNAME:EST
DTSTART:20271107T060000
END:STANDARD
END:VTIMEZONE
BEGIN:VEVENT
DTSTART;TZID=America/New_York:20260214T150000
DTEND;TZID=America/New_York:20260214T160000
DTSTAMP:20260423T073502
CREATED:20260127T150119Z
LAST-MODIFIED:20260127T150119Z
UID:10000634-1771081200-1771084800@easyespanol.org
SUMMARY:TALKathon: Online Spanish Conversation Session with Amigos
DESCRIPTION:Come enjoy an hour of friendship and Spanish conversation! \nJoin us this Valentine’s Day for a round of lively discussion en español with Spanish enthusiasts from around the globe. We’ll talk about art\, food\, local customs\, curious Spanish words and expressions and so much more. \nAfter a few minutes of warm-up Spanish conversation to break the ice\, participants will go to the breakout room of their choice where they’ll be able to further improve their speaking skills while talking in smaller groups. \nRooms are divided by topic and level and will be guided by one of our experienced coaches. \n\n\n\nAll participants are required to turn on their video cameras for this event. 
URL:https://easyespanol.org/events/talkathon-online-spanish-conversation-session-with-amigos/
CATEGORIES:Group Conversation Sessions,Monthly Conversatorio,Recurrent Conversatorio
ATTACH;FMTTYPE=image/png:https://easyespanol.org/wp-content/uploads/2026/01/CONVERSATORIO-FEBRUARY-2026-BL.png
ORGANIZER;CN="Easy Espa%C3%B1ol":MAILTO:info@easyespanol.org
LOCATION:https://easyespanol.org/events/talkathon-online-spanish-conversation-session-with-amigos/
END:VEVENT
END:VCALENDAR