BEGIN:VCALENDAR
VERSION:2.0
PRODID:-//Easy Español - ECPv6.15.20//NONSGML v1.0//EN
CALSCALE:GREGORIAN
METHOD:PUBLISH
X-ORIGINAL-URL:https://easyespanol.org
X-WR-CALDESC:Events for Easy Español
REFRESH-INTERVAL;VALUE=DURATION:PT1H
X-Robots-Tag:noindex
X-PUBLISHED-TTL:PT1H
BEGIN:VTIMEZONE
TZID:America/New_York
BEGIN:DAYLIGHT
TZOFFSETFROM:-0500
TZOFFSETTO:-0400
TZNAME:EDT
DTSTART:20240310T070000
END:DAYLIGHT
BEGIN:STANDARD
TZOFFSETFROM:-0400
TZOFFSETTO:-0500
TZNAME:EST
DTSTART:20241103T060000
END:STANDARD
BEGIN:DAYLIGHT
TZOFFSETFROM:-0500
TZOFFSETTO:-0400
TZNAME:EDT
DTSTART:20250309T070000
END:DAYLIGHT
BEGIN:STANDARD
TZOFFSETFROM:-0400
TZOFFSETTO:-0500
TZNAME:EST
DTSTART:20251102T060000
END:STANDARD
BEGIN:DAYLIGHT
TZOFFSETFROM:-0500
TZOFFSETTO:-0400
TZNAME:EDT
DTSTART:20260308T070000
END:DAYLIGHT
BEGIN:STANDARD
TZOFFSETFROM:-0400
TZOFFSETTO:-0500
TZNAME:EST
DTSTART:20261101T060000
END:STANDARD
END:VTIMEZONE
BEGIN:VEVENT
DTSTART;TZID=America/New_York:20250903T120000
DTEND;TZID=America/New_York:20250903T130000
DTSTAMP:20260423T034017
CREATED:20250826T040028Z
LAST-MODIFIED:20250826T040028Z
UID:10000554-1756900800-1756904400@easyespanol.org
SUMMARY:Conversation Session: Club for Beginners A1/A2
DESCRIPTION:These weekly Online Spanish Conversation Sessions (Conversatorios) are ideal for Beginners.  \nThe Conversatorios have been carefully crafted for Beginners learners who have studied Spanish before but are self-conscious and need a safe environment to practice Spanish conversation to gain fluency. \nDuring the sessions\, all participants\, under the guidance of an experienced language coach\, engage in a discussions of a wide range of topics such as art\, history\, culture\, current events and more. The coach provides advice and reassurance and creates a welcoming environment to entice free talking (en español\, of course). \nNo grammar\, no structure\, no pressure\, just fun! \nLeading coach: Mónica Endara \nLevel: Lower Beginners (A1) – Upper Beginners (A2) \nCost: $14.50 These sessions are free for our private students and members. \nAre you a member yet? Click HERE to join our MEMBERSHIP program. \nWhat to expect after registering: \n\nYou will receive an event ticket on your email confirming your registration. This ticket will also have the Classroom access link.\nThe day of the lesson you will receive a class reminder with the access link to join.\nWe recommend using a computer with a good Internet connection to best enjoy the session.
URL:https://easyespanol.org/events/spanish-conversation-sessions-september-03/
CATEGORIES:Recurrent Conversatorio,Weekly Conversatorio
ATTACH;FMTTYPE=image/png:https://easyespanol.org/wp-content/uploads/2022/12/Conversatorio-Viajes-y-Cultura.png
ORGANIZER;CN="Easy Espa%C3%B1ol":MAILTO:info@easyespanol.org
LOCATION:https://easyespanol.org/events/spanish-conversation-sessions-september-03/
END:VEVENT
BEGIN:VEVENT
DTSTART;TZID=America/New_York:20250904T180000
DTEND;TZID=America/New_York:20250904T190000
DTSTAMP:20260423T034017
CREATED:20250826T050549Z
LAST-MODIFIED:20250826T050549Z
UID:10000559-1757008800-1757012400@easyespanol.org
SUMMARY:Spanish Grammar & Conversation Club (Middle Beginners A1)
DESCRIPTION:This Conversation Club is the perfect opportunity for those language learners who want to refine and expand their knowledge of grammar topics while improving their conversational abilities. \nDuring this monthly session\, you and other Easy Español students and members will tackle a new topic and clear up doubts. \nNo pressure\, just fun! \nLeading coach: Mariana Ramirez \nLevel: Middle Beginners (A1) \nCost: $14.50 These sessions are free for our private students and members. \nAre you a member yet? Click HERE to join our MEMBERSHIP program.
URL:https://easyespanol.org/events/spanish-grammar-conversation-club-september-04/
CATEGORIES:Monthly Conversatorio,Recurrent Conversatorio
ATTACH;FMTTYPE=image/png:https://easyespanol.org/wp-content/uploads/2024/06/Conversatorio-Gramatica-Club.png
LOCATION:https://easyespanol.org/events/spanish-grammar-conversation-club-september-04/
END:VEVENT
BEGIN:VEVENT
DTSTART;TZID=America/New_York:20250908T180000
DTEND;TZID=America/New_York:20250908T190000
DTSTAMP:20260423T034017
CREATED:20250827T050119Z
LAST-MODIFIED:20250827T050119Z
UID:10000560-1757354400-1757358000@easyespanol.org
SUMMARY:Club de Conversación: Cocina y Cultura (Middle Beginners: A1-A2)
DESCRIPTION:This group Online Conversation Session is perfect for those language learners who have a basic command of the Spanish language and want to expand their vocabulary while talking about something fun and interesting. \nDuring this monthly session\, you and other Easy Español students and members will learn all about the ingredients\, drinks\, foods and culinary traditions of the Spanish-speaking world. \nNo pressure\, no grammar\, just fun! \nLeading coach: Agostina Horni \nLevel: Middle Beginners (A1/A2) \nCost: $14.50 These sessions are free for our private students and members. \nAre you a member yet? Click HERE to join our MEMBERSHIP program.
URL:https://easyespanol.org/events/spanish-conversation-middle-beginners-september-8/
CATEGORIES:Monthly Conversatorio,Recurrent Conversatorio
ATTACH;FMTTYPE=image/png:https://easyespanol.org/wp-content/uploads/2022/12/Conversatorio-Cocina-y-Cultura.png
LOCATION:https://easyespanol.org/events/spanish-conversation-middle-beginners-september-8/
END:VEVENT
BEGIN:VEVENT
DTSTART;TZID=America/New_York:20250910T120000
DTEND;TZID=America/New_York:20250910T130000
DTSTAMP:20260423T034017
CREATED:20250826T041233Z
LAST-MODIFIED:20250826T041233Z
UID:10000555-1757505600-1757509200@easyespanol.org
SUMMARY:Conversation Session: Club for Beginners A1/A2
DESCRIPTION:These weekly Online Spanish Conversation Sessions (Conversatorios) are ideal for Beginners.  \nThe Conversatorios have been carefully crafted for Beginners learners who have studied Spanish before but are self-conscious and need a safe environment to practice Spanish conversation to gain fluency. \nDuring the sessions\, all participants\, under the guidance of an experienced language coach\, engage in a discussions of a wide range of topics such as art\, history\, culture\, current events and more. The coach provides advice and reassurance and creates a welcoming environment to entice free talking (en español\, of course). \nNo grammar\, no structure\, no pressure\, just fun! \nLeading coach: Mónica Endara \nLevel: Lower Beginners (A1) – Upper Beginners (A2) \nCost: $14.50 These sessions are free for our private students and members. \nAre you a member yet? Click HERE to join our MEMBERSHIP program. \nWhat to expect after registering: \n\nYou will receive an event ticket on your email confirming your registration. This ticket will also have the Classroom access link.\nThe day of the lesson you will receive a class reminder with the access link to join.\nWe recommend using a computer with a good Internet connection to best enjoy the session.
URL:https://easyespanol.org/events/spanish-conversation-sessions-september-10/
CATEGORIES:Recurrent Conversatorio,Weekly Conversatorio
ATTACH;FMTTYPE=image/png:https://easyespanol.org/wp-content/uploads/2022/12/Conversatorio-Viajes-y-Cultura.png
LOCATION:https://easyespanol.org/events/spanish-conversation-sessions-september-10/
END:VEVENT
BEGIN:VEVENT
DTSTART;TZID=America/New_York:20250913T150000
DTEND;TZID=America/New_York:20250913T160000
DTSTAMP:20260423T034017
CREATED:20250824T143108Z
LAST-MODIFIED:20250913T185245Z
UID:10000552-1757775600-1757779200@easyespanol.org
SUMMARY:Practice Speaking Spanish with Amigos: Free Online Conversatorio
DESCRIPTION:Have fun speaking Spanish with new and old amigos from around the word! \n This is the perfect event to practice your Spanish conversation skills in a relaxed\, casual setting. After a few minutes of warm-up chat to break the ice\, participants will go to the breakout room of their choice where they’ll be able to further improve their speaking skills while talking about art\, hobbies\, travelling\, cultural traditions and more! \nRooms are divided by topic and level and will be guided by one of our experienced coaches. \n\n\n\nAll participants are required to turn on their video cameras for this event. 
URL:https://easyespanol.org/events/practice-speaking-spanish-free-online/
CATEGORIES:Monthly Conversatorio,Recurrent Conversatorio
ATTACH;FMTTYPE=image/png:https://easyespanol.org/wp-content/uploads/2025/05/CONVERSATORIO-MAY-2025-BL.png
LOCATION:https://easyespanol.org/events/practice-speaking-spanish-free-online/
END:VEVENT
BEGIN:VEVENT
DTSTART;TZID=America/New_York:20250917T120000
DTEND;TZID=America/New_York:20250917T130000
DTSTAMP:20260423T034017
CREATED:20250826T043139Z
LAST-MODIFIED:20250826T043139Z
UID:10000556-1758110400-1758114000@easyespanol.org
SUMMARY:Conversation Session: Club for Beginners A1/A2
DESCRIPTION:These weekly Online Spanish Conversation Sessions (Conversatorios) are ideal for Beginners.  \nThe Conversatorios have been carefully crafted for Beginners learners who have studied Spanish before but are self-conscious and need a safe environment to practice Spanish conversation to gain fluency. \nDuring the sessions\, all participants\, under the guidance of an experienced language coach\, engage in a discussions of a wide range of topics such as art\, history\, culture\, current events and more. The coach provides advice and reassurance and creates a welcoming environment to entice free talking (en español\, of course). \nNo grammar\, no structure\, no pressure\, just fun! \nLeading coach: Mónica Endara \nLevel: Lower Beginners (A1) – Upper Beginners (A2) \nCost: $14.50 These sessions are free for our private students and members. \nAre you a member yet? Click HERE to join our MEMBERSHIP program. \nWhat to expect after registering: \n\nYou will receive an event ticket on your email confirming your registration. This ticket will also have the Classroom access link.\nThe day of the lesson you will receive a class reminder with the access link to join.\nWe recommend using a computer with a good Internet connection to best enjoy the session.
URL:https://easyespanol.org/events/spanish-conversation-sessions-september-17/
CATEGORIES:Recurrent Conversatorio,Weekly Conversatorio
ATTACH;FMTTYPE=image/png:https://easyespanol.org/wp-content/uploads/2022/12/Conversatorio-Viajes-y-Cultura.png
ORGANIZER;CN="Easy Espa%C3%B1ol":MAILTO:info@easyespanol.org
LOCATION:https://easyespanol.org/events/spanish-conversation-sessions-september-17/
END:VEVENT
BEGIN:VEVENT
DTSTART;TZID=America/New_York:20250918T180000
DTEND;TZID=America/New_York:20250918T190000
DTSTAMP:20260423T034017
CREATED:20250827T051951Z
LAST-MODIFIED:20250827T051951Z
UID:10000561-1758218400-1758222000@easyespanol.org
SUMMARY:Club de Conversación: Literatura Hispanoamericana (Intermediates B2 & Up)
DESCRIPTION:This Conversation Club is terrific for the language learner who has a strong command of the Spanish language and wants to get involved in group discussions in Spanish about language and literature. \nDuring this monthly Spanish conversation session\, participants will step into the wonderful world of la literatura hispanoamericana. The group will read and discuss the work of great Latin American writers. Ideal for polishing up advanced Spanish conversation skills. \nNo grammar\, no structure\, no pressure\, just fun! \nLeading coach: Patricia Calderón \nLevel: Higher Intermediates & Advanced (B2 & Up) \nCost: $14.50 These sessions are free for our private students and members. \nAre you a member yet? Click HERE to join our MEMBERSHIP program.
URL:https://easyespanol.org/events/spanish-conversation-literatura-hispanoamericana-sept-18/
CATEGORIES:Monthly Conversatorio,Recurrent Conversatorio
ATTACH;FMTTYPE=image/png:https://easyespanol.org/wp-content/uploads/2022/12/Conversatorio-Literatura.png
LOCATION:https://easyespanol.org/events/spanish-conversation-literatura-hispanoamericana-sept-18/
END:VEVENT
BEGIN:VEVENT
DTSTART;TZID=America/New_York:20250924T120000
DTEND;TZID=America/New_York:20250924T130000
DTSTAMP:20260423T034017
CREATED:20250905T131914Z
LAST-MODIFIED:20250905T131914Z
UID:10000563-1758715200-1758718800@easyespanol.org
SUMMARY:Conversation Session: Club for Beginners A1/A2
DESCRIPTION:These weekly Online Spanish Conversation Sessions (Conversatorios) are ideal for Beginners.  \nThe Conversatorios have been carefully crafted for Beginners learners who have studied Spanish before but are self-conscious and need a safe environment to practice Spanish conversation to gain fluency. \nDuring the sessions\, all participants\, under the guidance of an experienced language coach\, engage in a discussions of a wide range of topics such as art\, history\, culture\, current events and more. The coach provides advice and reassurance and creates a welcoming environment to entice free talking (en español\, of course). \nNo grammar\, no structure\, no pressure\, just fun! \nLeading coach: Mónica Endara \nLevel: Lower Beginners (A1) – Upper Beginners (A2) \nCost: $14.50 These sessions are free for our private students and members. \nAre you a member yet? Click HERE to join our MEMBERSHIP program. \nWhat to expect after registering: \n\nYou will receive an event ticket on your email confirming your registration. This ticket will also have the Classroom access link.\nThe day of the lesson you will receive a class reminder with the access link to join.\nWe recommend using a computer with a good Internet connection to best enjoy the session.
URL:https://easyespanol.org/events/spanish-conversation-sessions-september-24/
CATEGORIES:Recurrent Conversatorio,Weekly Conversatorio
ATTACH;FMTTYPE=image/png:https://easyespanol.org/wp-content/uploads/2022/12/Conversatorio-Viajes-y-Cultura.png
LOCATION:https://easyespanol.org/events/spanish-conversation-sessions-september-24/
END:VEVENT
BEGIN:VEVENT
DTSTART;TZID=America/New_York:20250925T180000
DTEND;TZID=America/New_York:20250925T190000
DTSTAMP:20260423T034017
CREATED:20250905T140045Z
LAST-MODIFIED:20250905T140045Z
UID:10000565-1758823200-1758826800@easyespanol.org
SUMMARY:Spanish Grammar & Conversation Club (Upper Beginners A2 & Up)
DESCRIPTION:This Conversation Club is the perfect opportunity for those language learners who want to refine and expand their knowledge of grammar topics while improving their conversational abilities. \nDuring this monthly session\, you and other Easy Español students and members will tackle a new topic and clear up doubts. \nNo pressure\, just fun! \nLeading coach: Edith Celín \nLevel: Upper Beginners (A2) & Up \nCost: $14.50 These sessions are free for our private students and members. \nAre you a member yet? Click HERE to join our MEMBERSHIP program.
URL:https://easyespanol.org/events/spanish-grammar-conversation-session-september-25/
CATEGORIES:Recurrent Conversatorio,Weekly Conversatorio
ATTACH;FMTTYPE=image/png:https://easyespanol.org/wp-content/uploads/2024/06/Conversatorio-Gramatica-Club_2.png
LOCATION:https://easyespanol.org/events/spanish-grammar-conversation-session-september-25/
END:VEVENT
END:VCALENDAR